BEGIN:VCALENDAR
VERSION:2.0
PRODID:-//Muziek Collectief Engelen - ECPv6.15.16//NONSGML v1.0//EN
CALSCALE:GREGORIAN
METHOD:PUBLISH
X-WR-CALNAME:Muziek Collectief Engelen
X-ORIGINAL-URL:https://richardmartijn.roeltraa.com
X-WR-CALDESC:Evenementen voor Muziek Collectief Engelen
REFRESH-INTERVAL;VALUE=DURATION:PT1H
X-Robots-Tag:noindex
X-PUBLISHED-TTL:PT1H
BEGIN:VTIMEZONE
TZID:UTC
BEGIN:STANDARD
TZOFFSETFROM:+0000
TZOFFSETTO:+0000
TZNAME:UTC
DTSTART:20250101T000000
END:STANDARD
END:VTIMEZONE
BEGIN:VEVENT
DTSTART;TZID=UTC:20260125T140000
DTEND;TZID=UTC:20260125T170000
DTSTAMP:20260424T021528
CREATED:20251221T183640Z
LAST-MODIFIED:20251221T212029Z
UID:86-1769349600-1769360400@richardmartijn.roeltraa.com
SUMMARY:Best of MCE Concert
DESCRIPTION:
URL:https://richardmartijn.roeltraa.com/event/best-of-mce-concert/
LOCATION:De Engelenburcht
ATTACH;FMTTYPE=image/jpeg:https://richardmartijn.roeltraa.com/wp-content/uploads/2025/12/IMG_0528-scaled.jpg
END:VEVENT
BEGIN:VEVENT
DTSTART;TZID=UTC:20260101T080000
DTEND;TZID=UTC:20260101T170000
DTSTAMP:20260424T021528
CREATED:20251221T183502Z
LAST-MODIFIED:20251221T211906Z
UID:76-1767254400-1767286800@richardmartijn.roeltraa.com
SUMMARY:MCE 100 jaar kickoff
DESCRIPTION:MCE bestaat 100 jaar!!
URL:https://richardmartijn.roeltraa.com/event/mce-100-jaar-kickoff/
LOCATION:De Engelenburcht
ATTACH;FMTTYPE=image/jpeg:https://richardmartijn.roeltraa.com/wp-content/uploads/2025/12/CQ8A7668-scaled.jpg
END:VEVENT
END:VCALENDAR